BEGIN:VCALENDAR
VERSION:2.0
PRODID:-//ChamberMaster//Event Calendar 2.0//EN
METHOD:PUBLISH
X-PUBLISHED-TTL:P3D
REFRESH-INTERVAL:P3D
CALSCALE:GREGORIAN
BEGIN:VEVENT
DTSTART:20180710T150000Z
DTEND:20180710T160000Z
X-MICROSOFT-CDO-ALLDAYEVENT:FALSE
SUMMARY:Ribbon Cutting - UW Wonder Women League Born Learning Trail
DESCRIPTION:
X-ALT-DESC;FMTTYPE=text/html:
LOCATION:Sunrise Park 19th and MacArthur
UID:e.1271.9840
SEQUENCE:3
DTSTAMP:20260424T001353Z
URL:https://members.hayschamber.com/events/details/ribbon-cutting-uw-wonder-women-league-born-learning-trail-9840
END:VEVENT

END:VCALENDAR
