BEGIN:VCALENDAR
VERSION:2.0
PRODID:-//ChamberMaster//Event Calendar 2.0//EN
METHOD:PUBLISH
X-PUBLISHED-TTL:P3D
REFRESH-INTERVAL:P3D
CALSCALE:GREGORIAN
BEGIN:VEVENT
DTSTART:20181211T160000Z
DTEND:20181211T170000Z
X-MICROSOFT-CDO-ALLDAYEVENT:FALSE
SUMMARY:Ribbon Cutting - UWEC/Heartland Community Foundation
DESCRIPTION:
X-ALT-DESC;FMTTYPE=text/html:
LOCATION:Hadley Center 230 East 8th Street Room TBD
UID:e.1271.9908
SEQUENCE:3
DTSTAMP:20260423T090255Z
URL:https://members.hayschamber.com/events/details/ribbon-cutting-uwec-heartland-community-foundation-9908
END:VEVENT

END:VCALENDAR
