BEGIN:VCALENDAR
VERSION:2.0
PRODID:-//ChamberMaster//Event Calendar 2.0//EN
METHOD:PUBLISH
X-PUBLISHED-TTL:P3D
REFRESH-INTERVAL:P3D
CALSCALE:GREGORIAN
BEGIN:VEVENT
DTSTART:20181012T160000Z
DTEND:20181012T170000Z
X-MICROSOFT-CDO-ALLDAYEVENT:FALSE
SUMMARY:Ribbon Cutting - Wilson Elementary Playground
DESCRIPTION:Due to weather the ribbon cutting scheduled at Wilson Elementary school playground has been moved to Friday\, 10-12-18 at 11:00am.
X-ALT-DESC;FMTTYPE=text/html:<strong><u>Due to weather the ribbon cutting scheduled at Wilson Elementary school playground has been moved to Friday\, 10-12-18 at 11:00am.</u></strong>
LOCATION:101 East 28th
UID:e.1271.9890
SEQUENCE:3
DTSTAMP:20260423T155447Z
URL:https://members.hayschamber.com/events/details/ribbon-cutting-wilson-elementary-playground-9890
END:VEVENT

END:VCALENDAR
