BEGIN:VCALENDAR
VERSION:2.0
PRODID:-//ChamberMaster//Event Calendar 2.0//EN
METHOD:PUBLISH
X-PUBLISHED-TTL:P3D
REFRESH-INTERVAL:P3D
CALSCALE:GREGORIAN
BEGIN:VEVENT
DTSTART:20180118T220000Z
DTEND:20180118T230000Z
X-MICROSOFT-CDO-ALLDAYEVENT:FALSE
SUMMARY:Ribbon Cutting-Wonder Woman League
DESCRIPTION:United Way
X-ALT-DESC;FMTTYPE=text/html:United Way
LOCATION:Hadley Center\, Heritage Room Enter from 8th Street
UID:e.1271.8688
SEQUENCE:3
DTSTAMP:20260424T140417Z
URL:https://members.hayschamber.com/events/details/ribbon-cutting-wonder-woman-league-8688
END:VEVENT

END:VCALENDAR
