BEGIN:VCALENDAR
VERSION:2.0
PRODID:-//ChamberMaster//Event Calendar 2.0//EN
METHOD:PUBLISH
X-PUBLISHED-TTL:P3D
REFRESH-INTERVAL:P3D
CALSCALE:GREGORIAN
BEGIN:VEVENT
DTSTART:20191218T220000Z
DTEND:20191218T230000Z
X-MICROSOFT-CDO-ALLDAYEVENT:FALSE
SUMMARY:Ribbon Cutting - Wonder Women League
DESCRIPTION:Ribbon Cutting - Wonder Women League
X-ALT-DESC;FMTTYPE=text/html:Ribbon Cutting - Wonder Women League&nbsp\;
LOCATION:HaysMed Rock Garden Cafe (2220 Canterbury Drive) Entrance C.
UID:e.1271.10342
SEQUENCE:3
DTSTAMP:20260421T220752Z
URL:https://members.hayschamber.com/events/details/ribbon-cutting-wonder-women-league-10342
END:VEVENT

END:VCALENDAR
