BEGIN:VCALENDAR
VERSION:2.0
PRODID:-//ChamberMaster//Event Calendar 2.0//EN
METHOD:PUBLISH
X-PUBLISHED-TTL:P3D
REFRESH-INTERVAL:P3D
CALSCALE:GREGORIAN
BEGIN:VEVENT
DTSTART:20190621T170000Z
DTEND:20190621T180000Z
X-MICROSOFT-CDO-ALLDAYEVENT:FALSE
SUMMARY:Summer Break: No Ambassador Lunch
DESCRIPTION:No Ambassador Monthly Meeting - Summer Break
X-ALT-DESC;FMTTYPE=text/html:No Ambassador Monthly Meeting - Summer Break
LOCATION:
UID:e.1271.9935
SEQUENCE:3
DTSTAMP:20260422T073033Z
URL:https://members.hayschamber.com/events/details/summer-break-no-ambassador-lunch-9935
END:VEVENT

END:VCALENDAR
