BEGIN:VCALENDAR
VERSION:2.0
PRODID:-//ChamberMaster//Event Calendar 2.0//EN
METHOD:PUBLISH
X-PUBLISHED-TTL:P3D
REFRESH-INTERVAL:P3D
CALSCALE:GREGORIAN
BEGIN:VEVENT
DTSTART:20260925T140000Z
DTEND:20260925T150000Z
X-MICROSOFT-CDO-ALLDAYEVENT:FALSE
SUMMARY:TENTATIVE: Chamber Chat - 2026 FHSU Homecoming Committee
DESCRIPTION:Please join us for a Chamber Chat with the 2026 FHSU Homecoming Committee!
X-ALT-DESC;FMTTYPE=text/html:Please join us for a Chamber Chat with the 2026 FHSU Homecoming Committee!
LOCATION:TBD
UID:e.1271.12238
SEQUENCE:3
DTSTAMP:20260424T061654Z
URL:https://members.hayschamber.com/events/details/tentative-chamber-chat-2026-fhsu-homecoming-committee-12238
END:VEVENT

END:VCALENDAR
