BEGIN:VCALENDAR
VERSION:2.0
PRODID:-//ChamberMaster//Event Calendar 2.0//EN
METHOD:PUBLISH
X-PUBLISHED-TTL:P3D
REFRESH-INTERVAL:P3D
CALSCALE:GREGORIAN
BEGIN:VEVENT
DTSTART:20260430T183000Z
DTEND:20260430T193000Z
X-MICROSOFT-CDO-ALLDAYEVENT:FALSE
SUMMARY:GO / RC - High Plains Mental Health Center Crisis Intervention Center
DESCRIPTION:GO / RC High Plains Mental Health Center Crisis Intervention center\n\nJoin The Chamber in Hays\, Kansas as we celebrate the grand opening of the highly anticipated Crisis Intervention Center operated by High Plains Mental Health Center.
X-ALT-DESC;FMTTYPE=text/html:GO / RC High Plains Mental Health Center Crisis Intervention center<br />\nJoin The Chamber in Hays\, Kansas as we celebrate the grand opening of the highly anticipated Crisis Intervention Center operated by High Plains Mental Health Center.
LOCATION:205 E. 7th St. Park on the 7th St. parking lot and access the main doors. Staff will be on hand to guide guests where to go.
UID:e.1271.12929
SEQUENCE:3
DTSTAMP:20260423T162028Z
URL:https://members.hayschamber.com/events/details/tentative-go-rc-high-plains-mental-health-center-crisis-intervention-center-12929
END:VEVENT

END:VCALENDAR
