BEGIN:VCALENDAR
VERSION:2.0
PRODID:-//ChamberMaster//Event Calendar 2.0//EN
METHOD:PUBLISH
X-PUBLISHED-TTL:P3D
REFRESH-INTERVAL:P3D
CALSCALE:GREGORIAN
BEGIN:VEVENT
DTSTART:20170406T140000Z
DTEND:20170406T150000Z
X-MICROSOFT-CDO-ALLDAYEVENT:FALSE
SUMMARY:The Future of Education
DESCRIPTION:"The Future of Education" with Kansas Commissioner of Education Dr. Randy Watson
X-ALT-DESC;FMTTYPE=text/html:&quot\;The Future of Education&quot\; with Kansas Commissioner of Education Dr. Randy Watson
LOCATION:FHSU Memorial Union's Cody Commons
UID:e.1271.6167
SEQUENCE:3
DTSTAMP:20260425T115027Z
URL:https://members.hayschamber.com/events/details/the-future-of-education-6167
END:VEVENT

END:VCALENDAR
