BEGIN:VCALENDAR
VERSION:2.0
PRODID:-//ChamberMaster//Event Calendar 2.0//EN
METHOD:PUBLISH
X-PUBLISHED-TTL:P3D
REFRESH-INTERVAL:P3D
CALSCALE:GREGORIAN
BEGIN:VEVENT
DTSTART:20181115T160000Z
DTEND:20181115T210000Z
X-MICROSOFT-CDO-ALLDAYEVENT:FALSE
SUMMARY:Unmanned Aerial Systems (UAS) Workshop
DESCRIPTION:Unmanned Aerial Systems (UAS) and drones are more than a fad. This technology impacts most of our population every day and yet we're still only scratching the surface of its economic potential. This workshop will bring together industry experts to share UAS opportunities\, applications and regulations.
X-ALT-DESC;FMTTYPE=text/html:Unmanned Aerial Systems (UAS) and drones are more than a fad. This technology impacts most of our population every day and yet we&#39\;re still only scratching the surface of its economic potential. This workshop will bring together industry experts to share UAS opportunities\, applications and regulations.
LOCATION:The Robbins Center\, One Tiger Place Fort Hays State University
UID:e.1271.9871
SEQUENCE:3
DTSTAMP:20260423T055757Z
URL:https://members.hayschamber.com/events/details/unmanned-aerial-systems-uas-workshop-9871
END:VEVENT

END:VCALENDAR
