BEGIN:VCALENDAR
VERSION:2.0
PRODID:-//ChamberMaster//Event Calendar 2.0//EN
METHOD:PUBLISH
X-PUBLISHED-TTL:P3D
REFRESH-INTERVAL:P3D
CALSCALE:GREGORIAN
BEGIN:VEVENT
DTSTART:20200421T203000Z
DTEND:20200421T220000Z
X-MICROSOFT-CDO-ALLDAYEVENT:FALSE
SUMMARY:Virtual: Chamber Board Meeting
DESCRIPTION:Due to Covid-19 this event will be taking place virtually. More information to come from Chamber President/CEO closer to time.\n\n\n\nRegular Monthly Chamber Board Meeting
X-ALT-DESC;FMTTYPE=text/html:<span style="color:#FF0000\;"><strong>Due to Covid-19 this event will be taking place virtually. More information to come from Chamber President/CEO closer to time.</strong></span><br />\n<br />\nRegular Monthly Chamber Board Meeting
LOCATION:Welcome Center 2700 Vine
UID:e.1271.1933
SEQUENCE:3
DTSTAMP:20260419T205855Z
URL:https://members.hayschamber.com/events/details/virtual-chamber-board-meeting-1933
END:VEVENT

END:VCALENDAR
