BEGIN:VCALENDAR
VERSION:2.0
PRODID:-//ChamberMaster//Event Calendar 2.0//EN
METHOD:PUBLISH
X-PUBLISHED-TTL:P3D
REFRESH-INTERVAL:P3D
CALSCALE:GREGORIAN
BEGIN:VEVENT
DTSTART:20200403T140000Z
DTEND:20200403T150000Z
X-MICROSOFT-CDO-ALLDAYEVENT:FALSE
SUMMARY:Virtual Chamber Chat - Chef's Crate
DESCRIPTION:Join us on Facebook LIVE as we celebrate a new member to The Hays Chamber with a Chamber Chat
X-ALT-DESC;FMTTYPE=text/html:Join us on Facebook LIVE as we celebrate a new member to The Hays Chamber with a Chamber Chat
LOCATION:Chef's Crate (501 Vine St.)
UID:e.1271.10612
SEQUENCE:3
DTSTAMP:20260420T025248Z
URL:https://members.hayschamber.com/events/details/virtual-chamber-chat-chef-s-crate-10612
END:VEVENT

END:VCALENDAR
