BEGIN:VCALENDAR
VERSION:2.0
PRODID:-//ChamberMaster//Event Calendar 2.0//EN
METHOD:PUBLISH
X-PUBLISHED-TTL:P3D
REFRESH-INTERVAL:P3D
CALSCALE:GREGORIAN
BEGIN:VEVENT
DTSTART:20200327T140000Z
DTEND:20200327T150000Z
X-MICROSOFT-CDO-ALLDAYEVENT:FALSE
SUMMARY:Virtual Chamber Chat - Ellis County Health Services
DESCRIPTION:Chamber Chat
X-ALT-DESC;FMTTYPE=text/html:Chamber Chat&nbsp\;
LOCATION:https://www.facebook.com/HaysAreaChamber/
UID:e.1271.10370
SEQUENCE:3
DTSTAMP:20260420T095357Z
URL:https://members.hayschamber.com/events/details/virtual-chamber-chat-ellis-county-health-services-10370
END:VEVENT

END:VCALENDAR
