BEGIN:VCALENDAR
VERSION:2.0
PRODID:-//ChamberMaster//Event Calendar 2.0//EN
METHOD:PUBLISH
X-PUBLISHED-TTL:P3D
REFRESH-INTERVAL:P3D
CALSCALE:GREGORIAN
BEGIN:VEVENT
DTSTART:20200417T140000Z
DTEND:20200417T150000Z
X-MICROSOFT-CDO-ALLDAYEVENT:FALSE
SUMMARY:Virtual Chamber Chat - High Plains Mental Health Center
DESCRIPTION:Chamber Chat
X-ALT-DESC;FMTTYPE=text/html:Chamber Chat
LOCATION:TBD
UID:e.1271.10599
SEQUENCE:3
DTSTAMP:20260419T224439Z
URL:https://members.hayschamber.com/events/details/virtual-chamber-chat-high-plains-mental-health-center-10599
END:VEVENT

END:VCALENDAR
