BEGIN:VCALENDAR
VERSION:2.0
PRODID:-//ChamberMaster//Event Calendar 2.0//EN
METHOD:PUBLISH
X-PUBLISHED-TTL:P3D
REFRESH-INTERVAL:P3D
CALSCALE:GREGORIAN
BEGIN:VEVENT
DTSTART:20200515T140000Z
DTEND:20200515T150000Z
X-MICROSOFT-CDO-ALLDAYEVENT:FALSE
SUMMARY:Virtual Chamber Chat - Options
DESCRIPTION:Tune in every Friday for our Virtual Chamber Chats to learn about our member investor's offerings.
X-ALT-DESC;FMTTYPE=text/html:Tune in every Friday for our Virtual Chamber Chats to learn about our member investor&#39\;s offerings.
LOCATION:facebook.com/haysareachamber/
UID:e.1271.10625
SEQUENCE:3
DTSTAMP:20260419T161014Z
URL:https://members.hayschamber.com/events/details/virtual-chamber-chat-options-10625
END:VEVENT

END:VCALENDAR
