BEGIN:VCALENDAR
VERSION:2.0
PRODID:-//ChamberMaster//Event Calendar 2.0//EN
METHOD:PUBLISH
X-PUBLISHED-TTL:P3D
REFRESH-INTERVAL:P3D
CALSCALE:GREGORIAN
BEGIN:VEVENT
DTSTART:20200522T140000Z
DTEND:20200522T150000Z
X-MICROSOFT-CDO-ALLDAYEVENT:FALSE
SUMMARY:Virtual Chamber Chat - Southwind Crossfit
DESCRIPTION:Tune in every Friday for Virtual Chamber Chat to learn about our member investor's offerings.
X-ALT-DESC;FMTTYPE=text/html:Tune in every Friday for Virtual Chamber Chat to learn about our member investor&#39\;s offerings.
LOCATION:facebook.com/haysareachamber/
UID:e.1271.10632
SEQUENCE:3
DTSTAMP:20260419T211100Z
URL:https://members.hayschamber.com/events/details/virtual-chamber-chat-southwind-crossfit-10632
END:VEVENT

END:VCALENDAR
