BEGIN:VCALENDAR
VERSION:2.0
PRODID:-//ChamberMaster//Event Calendar 2.0//EN
METHOD:PUBLISH
X-PUBLISHED-TTL:P3D
REFRESH-INTERVAL:P3D
CALSCALE:GREGORIAN
BEGIN:VEVENT
DTSTART:20200508T140000Z
DTEND:20200508T150000Z
X-MICROSOFT-CDO-ALLDAYEVENT:FALSE
SUMMARY:Virtual Chamber Chat - The UPS Store
DESCRIPTION:Tune in to The Hays Chamber Facebook page and learn about our member offerings through a digital live experience.
X-ALT-DESC;FMTTYPE=text/html:Tune in to The Hays Chamber Facebook page and learn about our member offerings through a digital live experience.
LOCATION:The UPS Store 4320 Vine St. Unit 80
UID:e.1271.10624
SEQUENCE:3
DTSTAMP:20260419T223541Z
URL:https://members.hayschamber.com/events/details/virtual-chamber-chat-the-ups-store-10624
END:VEVENT

END:VCALENDAR
