BEGIN:VCALENDAR
VERSION:2.0
PRODID:-//ChamberMaster//Event Calendar 2.0//EN
METHOD:PUBLISH
X-PUBLISHED-TTL:P3D
REFRESH-INTERVAL:P3D
CALSCALE:GREGORIAN
BEGIN:VEVENT
DTSTART:20200501T140000Z
DTEND:20200501T143000Z
X-MICROSOFT-CDO-ALLDAYEVENT:FALSE
SUMMARY:Virtual Chamber Chat - Uber Jennie M. Atwell
DESCRIPTION:Join us on Facebook LIVE as we drive around town with Jennie Atwell\, owner of Uber - Jennie M. Atwell (Jennie's Fleet\, LLC).
X-ALT-DESC;FMTTYPE=text/html:Join us on Facebook LIVE as we drive around town with Jennie Atwell\, owner of Uber - Jennie M. Atwell (Jennie&#39\;s Fleet\, LLC).
LOCATION:Virtual event via Facebook LIVE
UID:e.1271.10622
SEQUENCE:3
DTSTAMP:20260419T162852Z
URL:https://members.hayschamber.com/events/details/virtual-chamber-chat-uber-jennie-m-atwell-10622
END:VEVENT

END:VCALENDAR
