BEGIN:VCALENDAR
VERSION:2.0
PRODID:-//ChamberMaster//Event Calendar 2.0//EN
METHOD:PUBLISH
X-PUBLISHED-TTL:P3D
REFRESH-INTERVAL:P3D
CALSCALE:GREGORIAN
BEGIN:VEVENT
DTSTART:20200423T200000Z
DTEND:20200423T213000Z
X-MICROSOFT-CDO-ALLDAYEVENT:FALSE
SUMMARY:Virtual: Dale Carnegie - Business Briefing "Managing Stress and Building Resilience"
DESCRIPTION:Due to COVID-19 this event is going to be taking place as planned but virtually. Please note: there has been a change in the topic to align with our businesses' needs during our current circumstances.\n\n\n\nWe are inviting all member investors to join us for a special look into the summer workshop the Dale Carnegie course will be hosting in Hays. The topic for the Business Briefing is "Managing Stress and Building Resilience." \n\nToday's environment is filled with setbacks and unexpected challenges and the impact of serious crises such as market shocks\, governmental instability and pandemics can't be ignored. Few of us can change the environment in which we operate   but we can control how we prepare and respond to the events around us. This 90-minute virtual event is designed to bring leaders together to learn about and reflect on new research from Dale Carnegie Training and others on workplace resilience.\n\n Completion of this module will empower participants to:\n\n	Identify the characteristics of resilience in the workplace\n	Understand the impact resilience can have on reducing stress in times of adversity\n	Develop resilience in people\, teams and across an organization
X-ALT-DESC;FMTTYPE=text/html:<span style="color:#FF0000\;"><strong>Due to COVID-19 this event is going to be taking place as planned but virtually. Please note: there has been a change in the topic to align with our businesses&#39\; needs during our current circumstances.</strong></span><br />\n<br />\nWe are inviting all member investors to join us for a special look into the summer workshop the Dale Carnegie course will be hosting in Hays. The topic for the Business Briefing is &quot\;Managing Stress and Building Resilience.&quot\;<strong><span style="letter-spacing:-.8pt\;"><span style="color:#4472C4\;"><span style="font-family:arial\,sans-serif\;"><span style="font-size:14.0pt\;">&nbsp\;</span></span></span></span></strong><br />\n<span style="color:black\;"><span style="font-family:arial\,sans-serif\;">Today&rsquo\;s environment is filled with setbacks and unexpected challenges and the impact of serious crises such as market shocks\, governmental instability and pandemics can&rsquo\;t be ignored. Few of us can change the environment in which we operate &ndash\; but we can control how we prepare and respond to the events around us. This 90-minute virtual event is designed to bring leaders together to learn about and reflect on new research from Dale Carnegie Training and others on workplace resilience.</span></span><br />\n<span style="color:black\;"><span style="font-family:arial\,sans-serif\;">&nbsp\;<strong>Completion of this module will empower participants to:</strong></span></span>\n<ul>\n	<li style="color:black\;">Identify the characteristics of resilience in the workplace</li>\n	<li style="color:black\;">Understand the impact resilience can have on reducing stress in times of adversity</li>\n	<li style="color:black\;">Develop resilience in people\, teams and across an organization&nbsp\;</li>\n</ul>\n
LOCATION:This is a virtual event.
UID:e.1271.10598
SEQUENCE:3
DTSTAMP:20260419T224434Z
URL:https://members.hayschamber.com/events/details/virtual-dale-carnegie-business-briefing-managing-stress-and-building-resilience-10598
END:VEVENT

END:VCALENDAR
