BEGIN:VCALENDAR
VERSION:2.0
PRODID:-//ChamberMaster//Event Calendar 2.0//EN
METHOD:PUBLISH
X-PUBLISHED-TTL:P3D
REFRESH-INTERVAL:P3D
CALSCALE:GREGORIAN
BEGIN:VEVENT
DTSTART:20200513T170000Z
DTEND:20200513T180000Z
X-MICROSOFT-CDO-ALLDAYEVENT:FALSE
SUMMARY:Virtual: HYP Advisory Council Meeting
DESCRIPTION:Virtually Hays Young Professionals Advisory Council and the committee chair's meet to discuss the current future states of young professional events offered by the Hays Chamber of Commerce.
X-ALT-DESC;FMTTYPE=text/html:Virtually Hays Young Professionals Advisory Council and the committee chair&#39\;s meet to discuss the current future states of young professional events offered by the Hays Chamber of Commerce.
LOCATION:There will be a link emailed with the agenda to all participants the week of the meeting.
UID:e.1271.10412
SEQUENCE:3
DTSTAMP:20260419T162853Z
URL:https://members.hayschamber.com/events/details/virtual-hyp-advisory-council-meeting-10412
END:VEVENT

END:VCALENDAR
