BEGIN:VCALENDAR
VERSION:2.0
PRODID:-//ChamberMaster//Event Calendar 2.0//EN
METHOD:PUBLISH
X-PUBLISHED-TTL:P3D
REFRESH-INTERVAL:P3D
CALSCALE:GREGORIAN
BEGIN:VEVENT
DTSTART:20200429T170000Z
DTEND:20200429T180000Z
X-MICROSOFT-CDO-ALLDAYEVENT:FALSE
SUMMARY:Virtual: HYP Membership Development Committee
DESCRIPTION:Due to Covid-19 this months meeting will be virtual. \n\n\n\nThis team creates unique and engaging professional and personal development opportunities to cultivate an array of leaders who excel in their careers and prosper in their community. \n\nThis committee meets monthly\, on the last Wednesday of the month\, from noon   1:00p.m. at Professors ( 521 E. 11th St.) and is hosted by the committee chair\, Kaiti Dinges.
X-ALT-DESC;FMTTYPE=text/html:<strong style="color: rgb(255\, 0\, 0)\;">Due to Covid-19 this months meeting will be virtual.&nbsp\;</strong><br />\n<br />\n<span style="font-size:12px\;"><span style="font-size:14px\;"><span style="font-family:verdana\,sans-serif\;">This team creates unique and engaging professional and personal development opportunities to cultivate an array of leaders who excel in their careers and prosper in their community.&nbsp\;</span><br />\nThis committee meets monthly\, on the last Wednesday of the month\, from noon &ndash\; 1:00p.m. at Professors ( 521 E. 11<sup>th</sup> St.) and is hosted by the committee chair\, Kaiti Dinges. </span></span><br />\n&nbsp\;
LOCATION:Paisley Pear Wine Bar\, Bistro & Market 1100 Main Hays\, KS 67601
UID:e.1271.10433
SEQUENCE:3
DTSTAMP:20260419T212121Z
URL:https://members.hayschamber.com/events/details/virtual-hyp-membership-development-committee-04-29-2020-10433
END:VEVENT

END:VCALENDAR
