BEGIN:VCALENDAR
VERSION:2.0
PRODID:-//ChamberMaster//Event Calendar 2.0//EN
METHOD:PUBLISH
X-PUBLISHED-TTL:P3D
REFRESH-INTERVAL:P3D
CALSCALE:GREGORIAN
BEGIN:VEVENT
DTSTART:20200527T170000Z
DTEND:20200527T180000Z
X-MICROSOFT-CDO-ALLDAYEVENT:FALSE
SUMMARY:Virtual: HYP Membership Development Committee
DESCRIPTION:Due to Covid-19 this team will be meeting virtually this month.\n\nThis team creates unique and engaging professional and personal development opportunities to cultivate an array of leaders who excel in their careers and prosper in their community. \n\nThis committee meets monthly\, on the last Wednesday of the month\, from noon   1:00 p.m. at Paisley Pear (1100 Main St.) and is hosted by the committee chair\, Kaiti Dinges.
X-ALT-DESC;FMTTYPE=text/html:<span style="font-size:12px\;"><span style="font-size:14px\;"><span style="font-family:verdana\,sans-serif\;"><strong><span style="color:#FF0000\;">Due to Covid-19 this team will be meeting virtually this month.</span></strong><br />\nThis team creates unique and engaging professional and personal development opportunities to cultivate an array of leaders who excel in their careers and prosper in their community.&nbsp\;</span><br />\nThis committee meets monthly\, on the last Wednesday of the month\, from noon &ndash\; 1:00 p.m. at Paisley Pear (1100 Main St.) and is hosted by the committee chair\, Kaiti Dinges. </span></span><br />\n&nbsp\;
LOCATION:
UID:e.1271.10434
SEQUENCE:3
DTSTAMP:20260419T131332Z
URL:https://members.hayschamber.com/events/details/virtual-hyp-membership-development-committee-05-27-2020-10434
END:VEVENT

END:VCALENDAR
