BEGIN:VCALENDAR
VERSION:2.0
PRODID:-//ChamberMaster//Event Calendar 2.0//EN
METHOD:PUBLISH
X-PUBLISHED-TTL:P3D
REFRESH-INTERVAL:P3D
CALSCALE:GREGORIAN
BEGIN:VEVENT
DTSTART:20200519T170000Z
DTEND:20200519T180000Z
X-MICROSOFT-CDO-ALLDAYEVENT:FALSE
SUMMARY:Virtual: HYP Q2 Lunch
DESCRIPTION:Hays Young Professionals gather for a short briefing on Advisory Council and Chamber updates. Then hear from intentional speakers on various topics important to our county.\n\nProgram: Alex Richard\, State Director\, Office of U.S. Senator Jerry Moran
X-ALT-DESC;FMTTYPE=text/html:Hays Young Professionals gather for a short briefing on Advisory Council and Chamber updates. Then hear from intentional speakers on various topics important to our county.<br />\nProgram: Alex Richard\, State Director\, Office of U.S. Senator Jerry Moran<br />\n&nbsp\;
LOCATION:Due to Covid-19 this event will be held virtually this month at no cost. The Zoom link will be emailed from The Chamber to registered participants the morning of May 19th.
UID:e.1271.3680
SEQUENCE:3
DTSTAMP:20260419T161014Z
URL:https://members.hayschamber.com/events/details/virtual-hyp-q2-lunch-3680
END:VEVENT

END:VCALENDAR
