BEGIN:VCALENDAR
VERSION:2.0
PRODID:-//ChamberMaster//Event Calendar 2.0//EN
METHOD:PUBLISH
X-PUBLISHED-TTL:P3D
REFRESH-INTERVAL:P3D
CALSCALE:GREGORIAN
BEGIN:VEVENT
DTSTART:20200409T163000Z
DTEND:20200409T173000Z
X-MICROSOFT-CDO-ALLDAYEVENT:FALSE
SUMMARY:Virtual: Lunch and Learn
DESCRIPTION:Dr. Aimee Riegel\, Owner FIT PT and Wellness\, Work (or Home) Wellness: Preventing Health Risks Affecting Workers Who Sit\n\nDo you spend extended periods of time sitting during your work day? An analysis of 13 studies of sitting time and activity levels found that those who sat for more than eight hours a day with no physical activity had a risk of dying similar to the risks of dying posed by smoking. The impact of movement throughout your day can be profound on your overall health! Join us for a virtual lunch and learn session led by movement expert Dr. Aimee Riegel\, Physical Therapist of FIT PT and Wellness\, in which we will address critical issues that affect desk workers.  In this session\, we will identify risks associated with prolonged sitting and learn techniques* to incorporate throughout the work day to negate the effects of postural strain\, repetitive use movements\, and improve overall health.\n\n*Let's get moving! This session will include hands-on practicing and movement. We encourage you to wear clothes that you will feel comfortable in for simple exercises and set up your computer in a place that gives you some room to move.
X-ALT-DESC;FMTTYPE=text/html:<strong><span style="font-family:arial\,sans-serif\;">Dr. Aimee Riegel\, Owner FIT PT and Wellness\, Work (or Home) Wellness: Preventing Health Risks Affecting Workers Who Sit</span></strong><br />\n<span style="background:white\;"><span style="color:black\;"><span style="font-family:arial\,sans-serif\;">Do you spend extended periods of time sitting during your work day?&nbsp\;</span></span></span><span style="font-family:arial\,sans-serif\;">An analysis of 13 studies of sitting time and activity levels found that those who sat for more than eight hours a day with no physical activity had a risk of dying similar to the risks of dying posed by smoking. The impact of movement throughout your day can be profound on your overall health!&nbsp\;Join us for a <strong>virtual </strong>lunch and learn session led by movement expert Dr. Aimee Riegel\, Physical Therapist of FIT PT and Wellness\, in which we will address critical issues that affect desk workers.&nbsp\;&nbsp\;In this session\, we will identify risks associated with prolonged sitting and learn techniques* to incorporate throughout the work day to negate the effects of postural strain\, repetitive use movements\, and improve overall health.</span><br />\n<span style="font-family:arial\,sans-serif\;">*Let&rsquo\;s get moving! This session will include hands-on practicing and movement. We encourage you to wear clothes that you will feel comfortable in for simple exercises and set up your computer in a place that gives you some room to move.</span><br />\n&nbsp\;
LOCATION:Zoom link will be sent to participants morning of event by 10:00 a.m. on April 9th.
UID:e.1271.10613
SEQUENCE:3
DTSTAMP:20260419T205626Z
URL:https://members.hayschamber.com/events/details/virtual-lunch-and-learn-10613
END:VEVENT

END:VCALENDAR
