BEGIN:VCALENDAR
VERSION:2.0
PRODID:-//ChamberMaster//Event Calendar 2.0//EN
METHOD:PUBLISH
X-PUBLISHED-TTL:P3D
REFRESH-INTERVAL:P3D
CALSCALE:GREGORIAN
BEGIN:VEVENT
DTSTART:20200423T163000Z
DTEND:20200423T173000Z
X-MICROSOFT-CDO-ALLDAYEVENT:FALSE
SUMMARY:Virtual: Lunch and Learn
DESCRIPTION:Dallas Haselhorst\, GSE #231\, CISSP\, SANS/GIAC(x10)\; Owner/Founder of TreeTop Security\; Cybersecurity Awareness: Protecting Data Regardless Of Where You Are Working From\n\nThe Coronavirus/COVID-19 changed the way we live and work. Many of us experienced working from home for the first time. Fortunately\, a vast majority of the tips and tricks we use to protect our data at work can work equally well at home. In this presentation\, we will go over some general guidance on how to stay safe online. In addition\, we'll cover different attack techniques the bad guys are using so you are aware of them and more importantly\, so you can spot them in the future.
X-ALT-DESC;FMTTYPE=text/html:<strong><span style="color:black\;"><span style="font-family:arial\,sans-serif\;"><span style="font-size:10.0pt\;">Dallas Haselhorst\, GSE #231\, CISSP\, SANS/GIAC(x10)\; Owner/Founder of TreeTop Security\; Cybersecurity Awareness: Protecting Data Regardless Of Where You Are Working From</span></span></span></strong><br />\n<span style="color:black\;"><span style="font-family:arial\,sans-serif\;"><span style="font-size:10.0pt\;">The Coronavirus/COVID-19 changed the way we live and work. Many of us experienced working from home for the first time. Fortunately\, a vast majority of the tips and tricks we use to protect our data at work can work equally well at home. In this presentation\, we will go over some general guidance on how to stay safe online. In addition\, we&#39\;ll cover different attack techniques the bad guys are using so you are aware of them and more importantly\, so you can spot them in the future. </span></span></span>
LOCATION:Zoom link will be sent to participants morning of event by 10:00 a.m. the morning of.
UID:e.1271.10614
SEQUENCE:3
DTSTAMP:20260419T205627Z
URL:https://members.hayschamber.com/events/details/virtual-lunch-and-learn-10614
END:VEVENT

END:VCALENDAR
