BEGIN:VCALENDAR
VERSION:2.0
PRODID:-//ChamberMaster//Event Calendar 2.0//EN
METHOD:PUBLISH
X-PUBLISHED-TTL:P3D
REFRESH-INTERVAL:P3D
CALSCALE:GREGORIAN
BEGIN:VEVENT
DTSTART:20200416T163000Z
DTEND:20200416T173000Z
X-MICROSOFT-CDO-ALLDAYEVENT:FALSE
SUMMARY:Virtual: Lunch & Learn
DESCRIPTION:Staying Positive in Challenging Times: Karen McCullough with FHSU Career Services. Living in these unprecedented times can lead us to worry\, anxiety\, and fear. During this lunch and learn\, we will explore how to stay positive and look for silver linings each day (yes\, they are out there!). We will also be challenged to go out and share this positivity with others around us who also need to see goodness in each day.
X-ALT-DESC;FMTTYPE=text/html:<div class="OutlineElement Ltr SCXW234389789 BCX0" style="margin: 0px\; padding: 0px\; user-select: text\; -webkit-user-drag: none\; -webkit-tap-highlight-color: transparent\; overflow: visible\; cursor: text\; clear: both\; position: relative\; direction: ltr\; color: rgb(0\, 0\, 0)\; font-family: &quot\;Segoe UI&quot\;\, &quot\;Segoe UI Web&quot\;\, Arial\, Verdana\, sans-serif\; font-size: 12px\;">\n<p class="Paragraph SCXW234389789 BCX0" paraeid="{f3da69e4-2958-4876-bd95-8ee3933eb7ec}{151}" paraid="2105375141" style="margin: 0px\; padding: 0px\; user-select: text\; -webkit-user-drag: none\; -webkit-tap-highlight-color: transparent\; overflow-wrap: break-word\; vertical-align: baseline\; background-color: transparent\; color: windowtext\;"><strong><span class="EOP SCXW234389789 BCX0" data-ccp-props="{&quot\;201341983&quot\;:0\,&quot\;335559739&quot\;:160\,&quot\;335559740&quot\;:259}" style="margin: 0px\; padding: 0px\; user-select: text\; -webkit-user-drag: none\; -webkit-tap-highlight-color: transparent\; font-size: 11pt\; line-height: 19.425px\; font-family: Calibri\, Calibri_EmbeddedFont\, Calibri_MSFontService\, sans-serif\;">Staying Positive in Challenging Times: Karen McCullough with FHSU Career Services. </span></strong><span class="EOP SCXW234389789 BCX0" data-ccp-props="{&quot\;201341983&quot\;:0\,&quot\;335559739&quot\;:160\,&quot\;335559740&quot\;:259}" style="margin: 0px\; padding: 0px\; user-select: text\; -webkit-user-drag: none\; -webkit-tap-highlight-color: transparent\; font-size: 11pt\; line-height: 19.425px\; font-family: Calibri\, Calibri_EmbeddedFont\, Calibri_MSFontService\, sans-serif\;">Living in these unprecedented times can lead us to worry\, anxiety\, and fear. During this lunch and learn\, we will explore how to stay positive and look for silver linings each day (yes\, they are out there!). We will also be challenged to go out and share this positivity with others around us who also need to see goodness in each day.</span></p>\n</div>\n
LOCATION:Zoom link will be sent to participants morning of event by 10:00 a.m. on April 15th.
UID:e.1271.10616
SEQUENCE:3
DTSTAMP:20260419T221206Z
URL:https://members.hayschamber.com/events/details/virtual-lunch-learn-10616
END:VEVENT

END:VCALENDAR
