BEGIN:VCALENDAR
VERSION:2.0
PRODID:-//ChamberMaster//Event Calendar 2.0//EN
METHOD:PUBLISH
X-PUBLISHED-TTL:P3D
REFRESH-INTERVAL:P3D
CALSCALE:GREGORIAN
BEGIN:VEVENT
DTSTART:20200430T163000Z
DTEND:20200430T173000Z
X-MICROSOFT-CDO-ALLDAYEVENT:FALSE
SUMMARY:Virtual: Lunch & Learn
DESCRIPTION:Dr. Kenton Olliff\, LCPC-S\, Associate Professor\, Advanced Education Programs\; Coping and in Control: How to Care for Yourself & Others. These are challenging times.  There is an incredible amount of COVID-19 information floating around via our instant access to the world on TV and social media. This constant barrage of information adds to the already existing stressors we have in our lives.  When life feels like it is out of control\, we can make small changes to help us bring control back to our lives & help us cope. In this one-hour lunch and learn session\, Dr. Kenton Olliff\, LCPC-S\, will take some time to discuss shifting our mindset to focus on the things we can control\, rather than obsessing about problems we can't control. Additionally\, we will discuss various coping mechanisms that may help you feel more positive & more in command of your situation.
X-ALT-DESC;FMTTYPE=text/html:<div class="OutlineElement Ltr SCXW234389789 BCX0" style="margin: 0px\; padding: 0px\; user-select: text\; -webkit-user-drag: none\; -webkit-tap-highlight-color: transparent\; overflow: visible\; cursor: text\; clear: both\; position: relative\; direction: ltr\; color: rgb(0\, 0\, 0)\; font-family: &quot\;Segoe UI&quot\;\, &quot\;Segoe UI Web&quot\;\, Arial\, Verdana\, sans-serif\; font-size: 12px\;">\n<p class="x_MsoNormal" style="margin: 0in 0in 0.0001pt\; font-size: 11pt\; font-family: Calibri\, sans-serif\; color: rgb(32\, 31\, 30)\;"><strong><span style="font-family:arial\;"><span style="font-size:12px\;">Dr. Kenton Olliff\, LCPC-S\, Associate Professor\, Advanced Education Programs\;&nbsp\;</span></span><span style="font-size: 12px\; font-family: arial\; color: inherit\; margin: 0px\; padding: 0px\; border: 0px\; font-style: inherit\; font-variant: inherit\; font-weight: inherit\; font-stretch: inherit\; line-height: inherit\; vertical-align: baseline\;">Coping and in Control: How to Care for Yourself &amp\; Others.&nbsp\;</span></strong><span style="font-family:arial\;"><span style="font-size:12px\;"><span style="margin: 0px\; padding: 0px\; border: 0px\; font-style: inherit\; font-variant: inherit\; font-weight: inherit\; font-stretch: inherit\; line-height: inherit\; vertical-align: baseline\; color: black\;">These are challenging times.&nbsp\; There is an incredible amount of COVID-19 information floating around via our instant access to the world on TV and social media. This constant barrage of information adds to the already existing stressors we have in our lives.&nbsp\; When life feels like it is out of control\, we can make small changes to help us bring control back to our lives &amp\; help us cope. In this one-hour lunch and learn session\, Dr. Kenton Olliff\, LCPC-S\, will take some time to discuss shifting our mindset to focus on the things we can control\, rather than obsessing about problems we can&rsquo\;t control. Additionally\, we will discuss various coping mechanisms that may help you feel more positive &amp\; more in command of your situation.</span></span></span></p>\n</div>\n
LOCATION:Zoom link will be sent to participants morning of event by 10:00 a.m. on the morning of the event.
UID:e.1271.10620
SEQUENCE:3
DTSTAMP:20260420T045355Z
URL:https://members.hayschamber.com/events/details/virtual-lunch-learn-10620
END:VEVENT

END:VCALENDAR
