BEGIN:VCALENDAR
VERSION:2.0
PRODID:-//ChamberMaster//Event Calendar 2.0//EN
METHOD:PUBLISH
X-PUBLISHED-TTL:P3D
REFRESH-INTERVAL:P3D
CALSCALE:GREGORIAN
BEGIN:VEVENT
DTSTART:20200514T163000Z
DTEND:20200514T173000Z
X-MICROSOFT-CDO-ALLDAYEVENT:FALSE
SUMMARY:Virtual: Lunch & Learn
DESCRIPTION:Hays will be back open for business soon!  Join Doug Williams\, Grow Hays Executive Director\, Sara Bloom\, Downtown Hays Development Corporation Executive Director\, Melissa Dixon\, Hays Convention & Visitors Bureau Executive Director\, and Sarah Wasinger\, The Chamber President/CEO to have an in-depth conversation about how citizens can do their part to patronize local businesses to fuel our economy and keep our unemployment rates from escalating.   In this discussion we will take a deep look into specific things families can do to positively impact local businesses.\n\nTopics of conversation could include:\n\n\n	Shopping local and reducing online purchases businesses that don't impact our local economy\n	Purchasing local gift cards and Chamber Cheques instead of giving cash for presents (money stays local)\n	Have a few dine out or carry in days as a family each week\n	Fly Hays Regional Airport instead of driving or flying from another airport\n	Be intentional about shopping at small businesses throughout the year\n	Positive impact of sales tax in our community\n	Supporting local events once they start again\n	Volunteer your time or make a contribution to your favorite non-profit organization\n	Have a stay-cation this summer and find ways to explore our beautiful city and all it has to offer
X-ALT-DESC;FMTTYPE=text/html:<div class="OutlineElement Ltr SCXW234389789 BCX0" style="margin: 0px\; padding: 0px\; user-select: text\; -webkit-user-drag: none\; -webkit-tap-highlight-color: transparent\; overflow: visible\; cursor: text\; clear: both\; position: relative\; direction: ltr\; color: rgb(0\, 0\, 0)\;">\n<div style="font-family: Calibri\, sans-serif\; font-size: 11pt\; color: rgb(50\, 49\, 48)\; margin: 0px\;"><span style="font-size:12px\;"><span style="font-family:tahoma\;"><span style="margin: 0px\; padding: 0px\; border: 0px\; font-style: inherit\; font-variant: inherit\; font-weight: inherit\; font-stretch: inherit\; line-height: inherit\; vertical-align: baseline\; color: inherit\;"><strong>Hays will be back open for business soon!&nbsp\; </strong>Join Doug Williams\, Grow Hays Executive Director\, Sara Bloom\, Downtown Hays Development Corporation Executive Director\, Melissa Dixon\, Hays Convention &amp\; Visitors Bureau Executive Director\, and Sarah Wasinger\, The Chamber President/CEO to have an in-depth conversation about how citizens can do their part to patronize local businesses to fuel our economy and keep our unemployment rates from escalating. &nbsp\;&nbsp\;In this discussion we will take a deep look into specific things families can do to positively impact local businesses.</span></span></span></div>\n\n<div style="color: rgb(50\, 49\, 48)\; margin: 0px\;"><font face="tahoma"><span style="font-size: 12px\;">Topics of conversation could include:</span></font></div>\n\n<ul style="font-family: &quot\;Segoe UI&quot\;\, &quot\;Segoe UI Web&quot\;\, Arial\, Verdana\, sans-serif\; font-size: 12px\;">\n	<li style="font-size: 11pt\; font-family: Calibri\, sans-serif\; margin: 0px\;"><span style="font-size:12px\;"><span style="font-family:tahoma\;"><span style="margin: 0px\; padding: 0px\; border: 0px\; font-style: inherit\; font-variant: inherit\; font-weight: inherit\; font-stretch: inherit\; line-height: inherit\; vertical-align: baseline\; color: inherit\;">Shopping local and reducing online purchases businesses that don&rsquo\;t impact our local economy</span></span></span></li>\n	<li style="font-size: 11pt\; font-family: Calibri\, sans-serif\; margin: 0px\;"><span style="font-size:12px\;"><span style="font-family:tahoma\;"><span style="margin: 0px\; padding: 0px\; border: 0px\; font-style: inherit\; font-variant: inherit\; font-weight: inherit\; font-stretch: inherit\; line-height: inherit\; vertical-align: baseline\; color: inherit\;">Purchasing local gift cards and Chamber Cheques instead of giving cash for presents (money stays local)</span></span></span></li>\n	<li style="font-size: 11pt\; font-family: Calibri\, sans-serif\; margin: 0px\;"><span style="font-size:12px\;"><span style="font-family:tahoma\;"><span style="margin: 0px\; padding: 0px\; border: 0px\; font-style: inherit\; font-variant: inherit\; font-weight: inherit\; font-stretch: inherit\; line-height: inherit\; vertical-align: baseline\; color: inherit\;">Have a few dine out or carry in days as a family each week</span></span></span></li>\n	<li style="font-size: 11pt\; font-family: Calibri\, sans-serif\; margin: 0px\;"><span style="font-size:12px\;"><span style="font-family:tahoma\;"><span style="margin: 0px\; padding: 0px\; border: 0px\; font-style: inherit\; font-variant: inherit\; font-weight: inherit\; font-stretch: inherit\; line-height: inherit\; vertical-align: baseline\; color: inherit\;">Fly Hays Regional Airport instead of driving or flying from another airport</span></span></span></li>\n	<li style="font-size: 11pt\; font-family: Calibri\, sans-serif\; margin: 0px\;"><span style="font-size:12px\;"><span style="font-family:tahoma\;"><span style="margin: 0px\; padding: 0px\; border: 0px\; font-style: inherit\; font-variant: inherit\; font-weight: inherit\; font-stretch: inherit\; line-height: inherit\; vertical-align: baseline\; color: inherit\;">Be intentional about shopping at small businesses throughout the year</span></span></span></li>\n	<li style="font-size: 11pt\; font-family: Calibri\, sans-serif\; margin: 0px\;"><span style="font-size:12px\;"><span style="font-family:tahoma\;"><span style="margin: 0px\; padding: 0px\; border: 0px\; font-style: inherit\; font-variant: inherit\; font-weight: inherit\; font-stretch: inherit\; line-height: inherit\; vertical-align: baseline\; color: inherit\;">Positive impact of sales tax in our community</span></span></span></li>\n	<li style="font-size: 11pt\; font-family: Calibri\, sans-serif\; margin: 0px\;"><span style="font-size:12px\;"><span style="font-family:tahoma\;"><span style="margin: 0px\; padding: 0px\; border: 0px\; font-style: inherit\; font-variant: inherit\; font-weight: inherit\; font-stretch: inherit\; line-height: inherit\; vertical-align: baseline\; color: inherit\;">Supporting local events once they start again</span></span></span></li>\n	<li style="font-size: 11pt\; font-family: Calibri\, sans-serif\; margin: 0px\;"><span style="font-size:12px\;"><span style="font-family:tahoma\;"><span style="margin: 0px\; padding: 0px\; border: 0px\; font-style: inherit\; font-variant: inherit\; font-weight: inherit\; font-stretch: inherit\; line-height: inherit\; vertical-align: baseline\; color: inherit\;">Volunteer your time or make a contribution to your favorite non-profit organization</span></span></span></li>\n	<li style="font-size: 11pt\; font-family: Calibri\, sans-serif\; margin: 0px\;"><span style="font-size:12px\;"><span style="font-family:tahoma\;"><span style="margin: 0px\; padding: 0px\; border: 0px\; font-style: inherit\; font-variant: inherit\; font-weight: inherit\; font-stretch: inherit\; line-height: inherit\; vertical-align: baseline\; color: inherit\;">Have a stay-cation this summer and find ways to explore our beautiful city and all it has to offer</span></span></span></li>\n</ul>\n</div>\n
LOCATION:Zoom link will be sent to participants morning of event by 10:00 a.m. on the morning of.
UID:e.1271.10623
SEQUENCE:3
DTSTAMP:20260419T130758Z
URL:https://members.hayschamber.com/events/details/virtual-lunch-learn-10623
END:VEVENT

END:VCALENDAR
