BEGIN:VCALENDAR
VERSION:2.0
PRODID:-//ChamberMaster//Event Calendar 2.0//EN
METHOD:PUBLISH
X-PUBLISHED-TTL:P3D
REFRESH-INTERVAL:P3D
CALSCALE:GREGORIAN
BEGIN:VEVENT
DTSTART:20200528T163000Z
DTEND:20200528T173000Z
X-MICROSOFT-CDO-ALLDAYEVENT:FALSE
SUMMARY:Virtual: Lunch & Learn
DESCRIPTION:Stacey Smith\, "I've Hired an Intern. Now What?!" Well-run internships provide positive experiences for both the hiring business and the hired student. However\, a poorly run internship can cause distress\, loss of confidence\, and even lost money. We don't want you to kick off your summer internship program on the wrong foot! Dr. Stacey Smith\, Applied Business Studies at FHSU will take you through internships 101 with the Virtual Lunch and Learn\, "I've Hired an Intern. Now What?!" Dr. Smith will discuss what an intern is\, what types of skills you can teach your newly hired intern from both an academic and business perspective\, and finally\, give various examples of what a successful internship should look like.
X-ALT-DESC;FMTTYPE=text/html:<div class="OutlineElement Ltr SCXW234389789 BCX0" style="margin: 0px\; padding: 0px\; user-select: text\; -webkit-user-drag: none\; -webkit-tap-highlight-color: transparent\; overflow: visible\; cursor: text\; clear: both\; position: relative\; direction: ltr\; color: rgb(0\, 0\, 0)\; font-family: &quot\;Segoe UI&quot\;\, &quot\;Segoe UI Web&quot\;\, Arial\, Verdana\, sans-serif\; font-size: 12px\;">\n<p class="Paragraph SCXW234389789 BCX0" paraeid="{f3da69e4-2958-4876-bd95-8ee3933eb7ec}{151}" paraid="2105375141" style="margin: 0px\; padding: 0px\; user-select: text\; -webkit-user-drag: none\; -webkit-tap-highlight-color: transparent\; overflow-wrap: break-word\; vertical-align: baseline\; background-color: transparent\; color: windowtext\;"><span style="color:#000000\;"><span style="font-family: Calibri\, sans-serif\; font-size: 14.6667px\;"><strong>Stacey Smith\, &ldquo\;I&rsquo\;ve Hired an Intern. Now What?!&rdquo\; </strong></span></span><span style="font-family: Calibri\, sans-serif\; font-size: 14.6667px\;">Well-run internships provide positive experiences for both the hiring business and the hired student. However\, a poorly run internship can cause distress\, loss of confidence\, and even lost money. We don&rsquo\;t want you to kick off your summer internship program on the wrong foot! Dr. Stacey Smith\, Applied Business Studies at FHSU will take you through internships 101 with the Virtual Lunch and Learn\, &ldquo\;I&rsquo\;ve Hired an Intern. Now What?!&rdquo\; Dr. Smith will discuss what an intern is\, what types of skills you can teach your newly hired intern from both an academic and business perspective\, and finally\, give various examples of what a successful internship should look like.&nbsp\;</span></p>\n</div>\n
LOCATION:Zoom link will be sent to participants morning of event by 10:00 a.m. the morning of the event.
UID:e.1271.10631
SEQUENCE:3
DTSTAMP:20260419T130758Z
URL:https://members.hayschamber.com/events/details/virtual-lunch-learn-10631
END:VEVENT

END:VCALENDAR
