BEGIN:VCALENDAR
VERSION:2.0
PRODID:-//ChamberMaster//Event Calendar 2.0//EN
METHOD:PUBLISH
X-PUBLISHED-TTL:P3D
REFRESH-INTERVAL:P3D
CALSCALE:GREGORIAN
BEGIN:VEVENT
DTSTART:20200625T163000Z
DTEND:20200625T173000Z
X-MICROSOFT-CDO-ALLDAYEVENT:FALSE
SUMMARY:Virtual: Lunch & Learn
DESCRIPTION:Five Stars: Customer Service & COVID-19\n\n Did you know\, according to a study done by NYU (Dr. Michael Solomon\, 2012)\, it only takes a customer or patron SEVEN seconds to form ELEVEN impressions about your business or organization? Even in the midst of a pandemic\, your customers are still making decisions regarding your business\; however\, whether those decisions are positive or negative is up to YOU & every single employee that interacts with patrons. In this Lunch & Learn\, Hannah Hilker with the MDC will give a crash course on the importance of customer service & review various tools to help your organization secure a competitive advantage through excellent customer interactions. We'll also discuss how customer service has changed and what various businesses are doing to adapt their customer service strategies in creative ways due to COVID-19. Although times have changed\, taking care of your customers should still be your top priority - figure out what that could look like for your place of work!
X-ALT-DESC;FMTTYPE=text/html:<div class="OutlineElement Ltr SCXW234389789 BCX0" style="margin: 0px\; padding: 0px\; user-select: text\; -webkit-user-drag: none\; -webkit-tap-highlight-color: transparent\; overflow: visible\; cursor: text\; clear: both\; position: relative\; direction: ltr\; color: rgb(0\, 0\, 0)\;">\n<p class="Paragraph SCXW234389789 BCX0" paraeid="{f3da69e4-2958-4876-bd95-8ee3933eb7ec}{151}" paraid="2105375141" style="margin: 0px\; padding: 0px\; user-select: text\; -webkit-user-drag: none\; -webkit-tap-highlight-color: transparent\; overflow-wrap: break-word\; vertical-align: baseline\; background-color: transparent\; color: windowtext\;"><strong>Five Stars: Customer Service &amp\; COVID-19</strong><br />\n&nbsp\;Did you know\, according to a study done by NYU (Dr. Michael Solomon\, 2012)\, it only takes a customer or patron SEVEN seconds to form ELEVEN impressions about your business or organization? Even in the midst of a pandemic\, your customers are still making decisions regarding your business\; however\, whether those decisions are positive or negative is up to YOU &amp\; every single employee that interacts with patrons. In this Lunch &amp\; Learn\, Hannah Hilker with the MDC will give a crash course on the importance of customer service &amp\; review various tools to help your organization secure a competitive advantage through excellent customer interactions. We&rsquo\;ll also discuss how customer service has changed and what various businesses are doing to adapt their customer service strategies in creative ways due to COVID-19. Although times have changed\, taking care of your customers should still be your top priority - figure out what that could look like for your place of work!</p>\n</div>\n
LOCATION:Zoom link will be sent to participants morning of event by 10:00 a.m. on the morning of the event.
UID:e.1271.10642
SEQUENCE:3
DTSTAMP:20260419T195507Z
URL:https://members.hayschamber.com/events/details/virtual-lunch-learn-10642
END:VEVENT

END:VCALENDAR
