BEGIN:VCALENDAR
VERSION:2.0
PRODID:-//ChamberMaster//Event Calendar 2.0//EN
METHOD:PUBLISH
X-PUBLISHED-TTL:P3D
REFRESH-INTERVAL:P3D
CALSCALE:GREGORIAN
BEGIN:VEVENT
DTSTART:20200723T163000Z
DTEND:20200723T173000Z
X-MICROSOFT-CDO-ALLDAYEVENT:FALSE
SUMMARY:Virtual: Lunch & Learn
DESCRIPTION:Join Dr. Rose Helens-Heart\, FHSU Assistant Professor for Applied Business Students for an in-depth look into The Change Cycle.  Managers are expected to champion organizational changes and lead their co-workers through often difficult times. Successful change requires effective and consistent communication. This Lunch And Learn will introduce The Change Cycle  as a guide for recognizing challenges and opportunities in the change experience and equip change agents to know how to communicate well and use the right strategy at the right time." \n\n\n\nThe Chamber is proud to partner with the FHSU Management & Development Center on this year's new Lunch & Learn series
X-ALT-DESC;FMTTYPE=text/html:<span style="color:#1F497D\;">Join Dr. Rose Helens-Heart\, FHSU Assistant Professor for Applied Business Students for an in-depth look into The Change Cycle.&nbsp\; Managers are expected to champion organizational changes and lead their co-workers through often difficult times. Successful change requires effective and consistent communication.&nbsp\;This Lunch And Learn will introduce The Change Cycle&trade\; as a guide for recognizing challenges and opportunities in the change experience and equip change agents to know how to communicate well and use the right strategy at the right time.&rdquo\;&nbsp\;<br />\n<br />\nThe Chamber is proud to partner with the FHSU Management &amp\; Development Center on this year&#39\;s new Lunch &amp\; Learn series</span>
LOCATION:A Zoom link will be sent to participants by 10:00 a.m. the morning of the event.
UID:e.1271.10651
SEQUENCE:3
DTSTAMP:20260419T130758Z
URL:https://members.hayschamber.com/events/details/virtual-lunch-learn-10651
END:VEVENT

END:VCALENDAR
