BEGIN:VCALENDAR
VERSION:2.0
PRODID:-//ChamberMaster//Event Calendar 2.0//EN
METHOD:PUBLISH
X-PUBLISHED-TTL:P3D
REFRESH-INTERVAL:P3D
CALSCALE:GREGORIAN
BEGIN:VEVENT
DTSTART:20200514T200000Z
DTEND:20200514T203000Z
X-MICROSOFT-CDO-ALLDAYEVENT:FALSE
SUMMARY:Virtual Ribbon Cutting - NCK-TECH
DESCRIPTION:Ribbon Cutting
X-ALT-DESC;FMTTYPE=text/html:Ribbon Cutting
LOCATION:NCK-TECH - 2205 Wheatland Dr.
UID:e.1271.10636
SEQUENCE:3
DTSTAMP:20260419T205830Z
URL:https://members.hayschamber.com/events/details/virtual-ribbon-cutting-nck-tech-10636
END:VEVENT

END:VCALENDAR
