BEGIN:VCALENDAR
VERSION:2.0
PRODID:-//ChamberMaster//Event Calendar 2.0//EN
METHOD:PUBLISH
X-PUBLISHED-TTL:P3D
REFRESH-INTERVAL:P3D
CALSCALE:GREGORIAN
BEGIN:VEVENT
DTSTART:20200204T233000Z
DTEND:20200205T030000Z
X-MICROSOFT-CDO-ALLDAYEVENT:FALSE
SUMMARY:Weather back-up Annual Chamber Banquet
DESCRIPTION:WEATHER BACK-UP FOR: Please join us for our Annual Chamber Banquet\, which includes an open bar during reception\, delicious dinner\, followed by a wonderful program. Get your tickets before they sell out! Available in the Chamber Office.
X-ALT-DESC;FMTTYPE=text/html:WEATHER BACK-UP FOR: Please join us for our Annual Chamber Banquet\, which includes an open bar during reception\, delicious dinner\, followed by a wonderful program. Get your tickets before they sell out! Available in the Chamber Office.
LOCATION:Fort Hays State University\, Memorial Union 600 Park Street
UID:e.1271.10281
SEQUENCE:3
DTSTAMP:20260422T082948Z
URL:https://members.hayschamber.com/events/details/weather-back-up-annual-chamber-banquet-10281
END:VEVENT

END:VCALENDAR
