BEGIN:VCALENDAR
VERSION:2.0
PRODID:-//ChamberMaster//Event Calendar 2.0//EN
METHOD:PUBLISH
X-PUBLISHED-TTL:P3D
REFRESH-INTERVAL:P3D
CALSCALE:GREGORIAN
BEGIN:VEVENT
DTSTART;VALUE=DATE:20190704
DTEND;VALUE=DATE:20190705
TRANSP:TRANSPARENT
X-MICROSOFT-CDO-ALLDAYEVENT:TRUE
SUMMARY:Welcome Center Closed - Happy Independence Day!
DESCRIPTION:Welcome Center Closed - Happy Independence Day!
X-ALT-DESC;FMTTYPE=text/html:Welcome Center Closed - Happy Independence Day!
LOCATION:Welcome Center 2700 Vine
UID:e.1271.10258
SEQUENCE:3
DTSTAMP:20260422T044959Z
URL:https://members.hayschamber.com/events/details/welcome-center-closed-happy-independence-day-10258
END:VEVENT

END:VCALENDAR
