BEGIN:VCALENDAR
VERSION:2.0
PRODID:-//ChamberMaster//Event Calendar 2.0//EN
METHOD:PUBLISH
X-PUBLISHED-TTL:P3D
REFRESH-INTERVAL:P3D
CALSCALE:GREGORIAN
BEGIN:VEVENT
DTSTART:20191017T000000Z
DTEND:20191017T010000Z
X-MICROSOFT-CDO-ALLDAYEVENT:FALSE
SUMMARY:XYP: Future Retirement Planning
DESCRIPTION:Expert Young Professional (XYP) is a time to gather and learn from an industry professional on a particular topic. This month's XYP is featured by financial advisors Tyler Hallagin with Ameriprise Financial and Mark Post with Waddell and Reed. They will share where you should start financial planning but also answer questions for those that have them.
X-ALT-DESC;FMTTYPE=text/html:Expert Young Professional (XYP) is a time to gather and learn from an industry professional on a particular topic. This month&#39\;s XYP is featured by financial advisors Tyler Hallagin with Ameriprise Financial and Mark Post with Waddell and Reed. They will share where you should start financial planning but also answer questions for those that have them.
LOCATION:In the basement of Cancun Mexican Grill
UID:e.1271.10314
SEQUENCE:3
DTSTAMP:20260422T015526Z
URL:https://members.hayschamber.com/events/details/xyp-future-retirement-planning-10314
END:VEVENT

END:VCALENDAR
